
		
BEGIN:VCALENDAR
VERSION:2.0
PRODID:-//Skarbiec wiedzy - ECPv4.9.14//NONSGML v1.0//EN
CALSCALE:GREGORIAN
METHOD:PUBLISH
X-WR-CALNAME:Skarbiec wiedzy
X-ORIGINAL-URL:https://skarbiecwiedzy.ug.edu.pl
X-WR-CALDESC:Wydarzenia dla Skarbiec wiedzy
BEGIN:VTIMEZONE
TZID:Europe/Warsaw
BEGIN:DAYLIGHT
TZOFFSETFROM:+0100
TZOFFSETTO:+0200
TZNAME:CEST
DTSTART:20200329T010000
END:DAYLIGHT
BEGIN:STANDARD
TZOFFSETFROM:+0200
TZOFFSETTO:+0100
TZNAME:CET
DTSTART:20201025T010000
END:STANDARD
END:VTIMEZONE
BEGIN:VEVENT
DTSTART;VALUE=DATE:20200321
DTEND;VALUE=DATE:20200322
DTSTAMP:20260423T222604
CREATED:20200121T173752Z
LAST-MODIFIED:20200125T092310Z
UID:1206-1584748800-1584835199@skarbiecwiedzy.ug.edu.pl
SUMMARY:Śladami królów – spacer po Gdańsku
DESCRIPTION:
URL:https://skarbiecwiedzy.ug.edu.pl/wydarzenia/sladami-krolow-spacer-po-gdansku/
LOCATION:Śródmieście historyczne Gdańska Brama Wyżynna\, Wały Jagiellońskie 2a\, Gdańsk\, 80-887\, Polska
CATEGORIES:Historia i społeczeństwo
ORGANIZER;CN="Biuro%20projektu":MAILTO:skarbiecwiedzy@ug.edu.pl
END:VEVENT
END:VCALENDAR